BEGIN:VCALENDAR
VERSION:2.0
PRODID:-//Joan Assessors - ECPv6.15.20//NONSGML v1.0//EN
CALSCALE:GREGORIAN
METHOD:PUBLISH
X-ORIGINAL-URL:https://www.joanassessors.com
X-WR-CALDESC:Eventos para Joan Assessors
REFRESH-INTERVAL;VALUE=DURATION:PT1H
X-Robots-Tag:noindex
X-PUBLISHED-TTL:PT1H
BEGIN:VTIMEZONE
TZID:Europe/Madrid
BEGIN:DAYLIGHT
TZOFFSETFROM:+0100
TZOFFSETTO:+0200
TZNAME:CEST
DTSTART:20180325T010000
END:DAYLIGHT
BEGIN:STANDARD
TZOFFSETFROM:+0200
TZOFFSETTO:+0100
TZNAME:CET
DTSTART:20181028T010000
END:STANDARD
BEGIN:DAYLIGHT
TZOFFSETFROM:+0100
TZOFFSETTO:+0200
TZNAME:CEST
DTSTART:20190331T010000
END:DAYLIGHT
BEGIN:STANDARD
TZOFFSETFROM:+0200
TZOFFSETTO:+0100
TZNAME:CET
DTSTART:20191027T010000
END:STANDARD
BEGIN:DAYLIGHT
TZOFFSETFROM:+0100
TZOFFSETTO:+0200
TZNAME:CEST
DTSTART:20200329T010000
END:DAYLIGHT
BEGIN:STANDARD
TZOFFSETFROM:+0200
TZOFFSETTO:+0100
TZNAME:CET
DTSTART:20201025T010000
END:STANDARD
BEGIN:DAYLIGHT
TZOFFSETFROM:+0100
TZOFFSETTO:+0200
TZNAME:CEST
DTSTART:20210328T010000
END:DAYLIGHT
BEGIN:STANDARD
TZOFFSETFROM:+0200
TZOFFSETTO:+0100
TZNAME:CET
DTSTART:20211031T010000
END:STANDARD
BEGIN:DAYLIGHT
TZOFFSETFROM:+0100
TZOFFSETTO:+0200
TZNAME:CEST
DTSTART:20220327T010000
END:DAYLIGHT
BEGIN:STANDARD
TZOFFSETFROM:+0200
TZOFFSETTO:+0100
TZNAME:CET
DTSTART:20221030T010000
END:STANDARD
BEGIN:DAYLIGHT
TZOFFSETFROM:+0100
TZOFFSETTO:+0200
TZNAME:CEST
DTSTART:20230326T010000
END:DAYLIGHT
BEGIN:STANDARD
TZOFFSETFROM:+0200
TZOFFSETTO:+0100
TZNAME:CET
DTSTART:20231029T010000
END:STANDARD
END:VTIMEZONE
BEGIN:VEVENT
DTSTART;VALUE=DATE:20211223
DTEND;VALUE=DATE:20230101
DTSTAMP:20260424T210540
CREATED:20211223T102803Z
LAST-MODIFIED:20211223T120636Z
UID:1139-1640217600-1672531199@www.joanassessors.com
SUMMARY:CALENDARIO VALENCIA 2022
DESCRIPTION:JOAN ASSESSORS 2022
URL:https://www.joanassessors.com/event/calendario-valencia-2022/
ATTACH;FMTTYPE=image/jpeg:https://www.joanassessors.com/wp-content/uploads/2019/02/Logo-Joan-Assessors-HD-reduc-peso.jpg
END:VEVENT
BEGIN:VEVENT
DTSTART;VALUE=DATE:20211005
DTEND;VALUE=DATE:20211021
DTSTAMP:20260424T210540
CREATED:20211005T133200Z
LAST-MODIFIED:20211005T133200Z
UID:1098-1633392000-1634774399@www.joanassessors.com
SUMMARY:Hasta el 20 de octubre
DESCRIPTION:RENTA Y SOCIEDADES \nRetenciones e ingresos a cuenta de rendimientos del trabajo\, actividades económicas\, premios y determinadas ganancias patrimoniales e imputaciones de renta\, ganancias derivadas de acciones y participaciones de las instituciones de inversión colectiva\, rentas de arrendamiento de inmuebles urbanos\, capital mobiliario\, personas autorizadas y saldos en cuentas. \n\nSeptiembre 2021. Grandes empresas: 111\, 115\, 117\, 123\, 124\, 126\, 128\, 216\, 230\nTercer trimestre 2021: 111\, 115\, 117\, 123\, 124\, 126\, 128\, 136\, 210\, 216\n\nPagos fraccionados Renta \n\nTercer trimestre 2021:\n\nEstimación directa: 130\nEstimación objetiva: 131\n\n\n\nPagos fraccionados Sociedades y Establecimientos Permanentes de no Residentes \n\nEjercicio en curso:\n\nRégimen general: 202\nRégimen de consolidación fiscal (grupos fiscales): 222\n\n\n\nIVA \n\nSeptiembre 2021. Declaración recapitulativa de operaciones intracomunitarias: 349\nSeptiembre 2021. Operaciones asimiladas a las importaciones: 380\nTercer trimestre 2021. Autoliquidación: 303\nTercer trimestre 2021. Declaración-liquidación no periódica: 309\nTercer trimestre 2021. Declaración recapitulativa de operaciones intracomunitarias: 349\nTercer trimestre 2021. Servicios de telecomunicaciones\, de radiodifusión o de televisión y electrónicos en el IVA. Autoliquidación: 368\nTercer trimestre 2021. Operaciones asimiladas a las importaciones: 380\nSolicitud de devolución del recargo de equivalencia y sujetos pasivos ocasionales: 308\nReintegro de compensaciones en el régimen especial de la agricultura\, ganadería y pesca: 341\n\nIMPUESTO SOBRE LAS PRIMAS DE SEGUROS \n\nSeptiembre 2021: 430\n\nIMPUESTOS ESPECIALES DE FABRICACIÓN \n\nJulio 2021. Grandes empresas: 561\, 562\, 563\nSeptiembre 2021: 548\, 566\, 581\nTercer trimestre 2021: 521\, 522\, 547\nTercer trimestre 2021. Actividades V1\, V2\, F1\, F2: 553 (establecimientos autorizados para la llevanza de la contabilidad en soporte papel)\nTercer trimestre 2021. Solicitudes de devolución: 506\, 507\, 508\, 524\, 572\nDeclaración de operaciones por los destinatarios registrados\, representantes fiscales y receptores autorizados: 510\n\nIMPUESTO ESPECIAL SOBRE LA ELECTRICIDAD \n\nSeptiembre 2021. Grandes empresas: 560\nTercer trimestre 2021. Excepto grandes empresas: 560\n\nIMPUESTOS MEDIOAMBIENTALES \n\nTercer trimestre 2021. Pago fraccionado: 585\nPago fraccionado 2021: 589\n\nIMPUESTO ESPECIAL SOBRE EL CARBÓN \n\nTercer trimestre 2021: 595\n\nIMPUESTO SOBRE LAS TRANSACCIONES FINANCIERAS \n\nSeptiembre 2021: 604
URL:https://www.joanassessors.com/event/hasta-el-20-de-octubre/
END:VEVENT
BEGIN:VEVENT
DTSTART;VALUE=DATE:20210729
DTEND;VALUE=DATE:20210902
DTSTAMP:20260424T210540
CREATED:20210729T140031Z
LAST-MODIFIED:20210729T140031Z
UID:1063-1627516800-1630540799@www.joanassessors.com
SUMMARY:HORARIO AGOSTO
DESCRIPTION:
URL:https://www.joanassessors.com/event/horario-agosto/
ATTACH;FMTTYPE=image/png:https://www.joanassessors.com/wp-content/uploads/2021/07/HORARIO-AGOSTO-2021.png
END:VEVENT
BEGIN:VEVENT
DTSTART;VALUE=DATE:20210607
DTEND;VALUE=DATE:20210801
DTSTAMP:20260424T210540
CREATED:20210607T100957Z
LAST-MODIFIED:20210607T100957Z
UID:1009-1623024000-1627775999@www.joanassessors.com
SUMMARY:CALENDARIO DEL CONTRIBUYENTE
DESCRIPTION:Calendario contribuyente
URL:https://www.joanassessors.com/event/calendario-del-contribuyente/
END:VEVENT
BEGIN:VEVENT
DTSTART;VALUE=DATE:20210601
DTEND;VALUE=DATE:20210801
DTSTAMP:20260424T210540
CREATED:20210601T104852Z
LAST-MODIFIED:20210607T100845Z
UID:1004-1622505600-1627775999@www.joanassessors.com
SUMMARY:HORARIO JUNIO Y JULIO
DESCRIPTION:
URL:https://www.joanassessors.com/event/1004/
END:VEVENT
BEGIN:VEVENT
DTSTART;VALUE=DATE:20210412
DTEND;VALUE=DATE:20210413
DTSTAMP:20260424T210540
CREATED:20210412T093725Z
LAST-MODIFIED:20210412T093725Z
UID:958-1618185600-1618271999@www.joanassessors.com
SUMMARY:CERRADOS EL 12 DE ABRIL
DESCRIPTION:
URL:https://www.joanassessors.com/event/cerrados-el-12-de-abril/
END:VEVENT
BEGIN:VEVENT
DTSTART;VALUE=DATE:20210329
DTEND;VALUE=DATE:20210407
DTSTAMP:20260424T210540
CREATED:20210329T140739Z
LAST-MODIFIED:20210329T140739Z
UID:945-1616976000-1617753599@www.joanassessors.com
SUMMARY:DÍAS CERRADOS EN ABRIL
DESCRIPTION:
URL:https://www.joanassessors.com/event/dias-cerrados-en-abril/
END:VEVENT
BEGIN:VEVENT
DTSTART;VALUE=DATE:20210315
DTEND;VALUE=DATE:20210322
DTSTAMP:20260424T210540
CREATED:20210315T172506Z
LAST-MODIFIED:20210315T172506Z
UID:932-1615766400-1616371199@www.joanassessors.com
SUMMARY:DÍAS CERRADOS MARZO
DESCRIPTION:
URL:https://www.joanassessors.com/event/dias-cerrados-marzo/
ATTACH;FMTTYPE=image/jpeg:https://www.joanassessors.com/wp-content/uploads/2021/03/DIAS-CERRADOS-03.21.jpg
END:VEVENT
BEGIN:VEVENT
DTSTART;VALUE=DATE:20210305
DTEND;VALUE=DATE:20211201
DTSTAMP:20260424T210540
CREATED:20210305T103930Z
LAST-MODIFIED:20211223T120938Z
UID:921-1614902400-1638316799@www.joanassessors.com
SUMMARY:MODIFICACIÓN CALENDARIO 2021
DESCRIPTION:La Conselleria de Economía ha aprobado el nuevo calendario laboral de 2021 para incorporar a los municipios que en diciembre de 2020 no habían comunicado las fechas de sus fiestas locales\, y los que han decidido un cambio por la situación de la pandemia\, retribuidas y no recuperables en el ámbito de la Comunitat Valenciana para el año 2021. \nProvincia de Alicante \nSe incorporan los cambios en Agres (festivos por fiestas locales el 7 de diciembre y el 6 de septiembre)\, Algorfa (12 de abril y 16 de julio)\, Orxeta (17 y 20 de septiembre) y San Isidro (14 de mayo y 7 de diciembre). \nProvincia de Castellón \nAyódar (20 de enero y 4 de octubre)\, Altura (24 de septiembre)\, Castelló de la Plana (10 de septiembre) y Chóvar (3 y 4 de mayo). \nProvincia de Valencia \nBenavites (12 de abril y 28 de junio)\, Castielfabib (10 de febrero y 8 de septiembre)\, Xeraco (12 de abril y 6 de agosto)\, Beniarjó (12 de abril y 17 de septiembre)\, Tavernes de la Valldigna (12 de abril)\, Albalat dels Sorells (12 de abril y 4 de septiembre)\, Alborache (26 y 27 de julio)\, Alfarp (14 y 26 de julio)\, Bellús (26 de julio y 13 de septiembre)\, Benaguasil (18 de marzo y 8 de septiembre) y Beniatjar (26 y 27 de agosto). \nBenicolet (18 de marzo y 7 de diciembre)\, Benifla (23 de julio y 8 de octubre)\, Benissoda (13 de agosto y 11 de octubre)\, Bocairent (25 de junio y 11 de octubre)\, Casas Bajas (12 de abril y 7 de diciembre)\, Daimús (28 y 29 de junio)\, Domeño (3 de mayo y 7 de octubre)\, L’Ènova (12 de abril y 23 de julio)\, Foios (12 de abril y 17 de agosto)\, Godella (12 de abril y 24 de agosto) y Miramar (12 de abril y 5 de agosto). \nMoncada (10 de septiembre y 4 de diciembre)\, Montixelvo (12 de abril y 11 de octubre)\, Oliva (3 de mayo y 16 de julio)\, Quartell (12 de abril y 11 de octubre)\, Requena (26 de marzo y 12 de abril)\, Sant Joanet (12 de abril y 25 de junio)\, Sedaví (12 de abril y 17 de septiembre)\, Sempere (5 de febrero y 22 de octubre)\, Sinarcas (27 de agosto y 21 de octubre)\, Sollana (22 de julio y 10 de agosto)\, Torrebaja (12 de abril y 23 de agosto)\, Vinalesa (13 y 14 de octubre) y Yátova (18 de marzo y 16 de agosto). \n 
URL:https://www.joanassessors.com/event/modificacion-calendario-2021/
ATTACH;FMTTYPE=image/jpeg:https://www.joanassessors.com/wp-content/uploads/2019/02/Logo-Joan-Assessors-HD-reduc-peso.jpg
END:VEVENT
BEGIN:VEVENT
DTSTART;VALUE=DATE:20210105
DTEND;VALUE=DATE:20210106
DTSTAMP:20260424T210540
CREATED:20210105T161415Z
LAST-MODIFIED:20210105T161415Z
UID:855-1609804800-1609891199@www.joanassessors.com
SUMMARY:
DESCRIPTION:
URL:https://www.joanassessors.com/event/855/
END:VEVENT
BEGIN:VEVENT
DTSTART;TZID=Europe/Madrid:20201201T000000
DTEND;TZID=Europe/Madrid:20211130T000000
DTSTAMP:20260424T210540
CREATED:20201201T170736Z
LAST-MODIFIED:20221109T150433Z
UID:819-1606780800-1638230400@www.joanassessors.com
SUMMARY:CALENDARIO VALENCIA 2021
DESCRIPTION:ENLACE AL CALENDARIO LABORAL DE 2021 DE VALENCIA
URL:https://www.joanassessors.com/event/calendario-2021/
ATTACH;FMTTYPE=image/jpeg:https://www.joanassessors.com/wp-content/uploads/2019/02/Logo-Joan-Assessors-HD-reduc-peso.jpg
END:VEVENT
BEGIN:VEVENT
DTSTART;TZID=Europe/Madrid:20201201T000000
DTEND;TZID=Europe/Madrid:20201231T000000
DTSTAMP:20260424T210540
CREATED:20201201T151017Z
LAST-MODIFIED:20201201T151017Z
UID:816-1606780800-1609372800@www.joanassessors.com
SUMMARY:DÍAS CERRADOS DICIEMBRE
DESCRIPTION:
URL:https://www.joanassessors.com/event/dias-cerrados-diciembre/
ATTACH;FMTTYPE=image/jpeg:https://www.joanassessors.com/wp-content/uploads/2020/12/NADAL-2020-HORARI.jpeg
END:VEVENT
BEGIN:VEVENT
DTSTART;VALUE=DATE:20200824
DTEND;VALUE=DATE:20200907
DTSTAMP:20260424T210540
CREATED:20200620T102447Z
LAST-MODIFIED:20200620T102447Z
UID:730-1598227200-1599436799@www.joanassessors.com
SUMMARY:HORARIO ATENCIÓN AL PÚBLICO
DESCRIPTION:El próximo martes 1 de septiembre de 2020\, reanudamos nuestro horario habitual: \n  \nDe lunes a jueves de 9:30 a 13:30 y de 16:30 a 19:00\, viernes de 9:30 a 13:30.
URL:https://www.joanassessors.com/event/horario-atencion-al-publico-2/
END:VEVENT
BEGIN:VEVENT
DTSTART;VALUE=DATE:20200727
DTEND;VALUE=DATE:20200901
DTSTAMP:20260424T210540
CREATED:20200620T102607Z
LAST-MODIFIED:20200620T102607Z
UID:732-1595808000-1598918399@www.joanassessors.com
SUMMARY:HORARIO DE AGOSTO 2020
DESCRIPTION:El horario del mes de agosto: 10:00 a 13:00 las\n mañanas de los días 4\, 5\, 25 y 26.\n  \n  \n Agradecido de antemano su atención\, les deseamos un feliz verano.
URL:https://www.joanassessors.com/event/horario-de-agosto-2020/
END:VEVENT
BEGIN:VEVENT
DTSTART;VALUE=DATE:20200715
DTEND;VALUE=DATE:20200716
DTSTAMP:20260424T210540
CREATED:20200620T100850Z
LAST-MODIFIED:20200620T100850Z
UID:721-1594771200-1594857599@www.joanassessors.com
SUMMARY:IMPUESTOS TRIMESTRALES
DESCRIPTION:Fecha finalización para poder domiciliar los impuestos trimestrales.
URL:https://www.joanassessors.com/event/impuestos-trimestrales-5/
END:VEVENT
BEGIN:VEVENT
DTSTART;VALUE=DATE:20200701
DTEND;VALUE=DATE:20200801
DTSTAMP:20260424T210540
CREATED:20200620T102238Z
LAST-MODIFIED:20200620T102238Z
UID:728-1593561600-1596239999@www.joanassessors.com
SUMMARY:HORARIO ATENCIÓN AL PÚBLICO EN JULIO
DESCRIPTION:De lunes a jueves de 9:30 a 13:30 y de 16:30 a 19:00.
URL:https://www.joanassessors.com/event/horario-atencion-al-publico-en-julio/
END:VEVENT
BEGIN:VEVENT
DTSTART;VALUE=DATE:20200624
DTEND;VALUE=DATE:20200625
DTSTAMP:20260424T210540
CREATED:20200620T101833Z
LAST-MODIFIED:20200620T101833Z
UID:726-1592956800-1593043199@www.joanassessors.com
SUMMARY:FESTIVIDAD AUTONÓMICA
DESCRIPTION:DÍA 24 DE JUNIO DE 2020 ESTE DESPACHO PERMANECERÁ CERRADO POR FESTIVIDAD AUTONÓMICA. 
URL:https://www.joanassessors.com/event/festividad-autonomica-2/
END:VEVENT
BEGIN:VEVENT
DTSTART;VALUE=DATE:20200520
DTEND;VALUE=DATE:20200521
DTSTAMP:20260424T210540
CREATED:20200514T143935Z
LAST-MODIFIED:20200514T143935Z
UID:714-1589932800-1590019199@www.joanassessors.com
SUMMARY:CARGO IMPUESTOS
DESCRIPTION:El próximo miércoles 20-05-2020\, serán cargados los impuestos en las respectivas cuentas bancarias\, excepto los impuestos aplazados.
URL:https://www.joanassessors.com/event/cargo-impuestos/
END:VEVENT
BEGIN:VEVENT
DTSTART;TZID=Europe/Madrid:20200401T000000
DTEND;TZID=Europe/Madrid:20200630T000000
DTSTAMP:20260424T210540
CREATED:20200620T100108Z
LAST-MODIFIED:20200620T100108Z
UID:719-1585699200-1593475200@www.joanassessors.com
SUMMARY:RENTA
DESCRIPTION:LA CAMPAÑA DE RENTA FINALIZA  EL 30 DE JUNIO DE 2020 Y PARA DOMICILIAR FINALIZA EL 25 DE JUNIO DE 2020.
URL:https://www.joanassessors.com/event/renta-2/
END:VEVENT
BEGIN:VEVENT
DTSTART;VALUE=DATE:20200115
DTEND;VALUE=DATE:20200116
DTSTAMP:20260424T210540
CREATED:20190402T103526Z
LAST-MODIFIED:20190402T103526Z
UID:464-1579046400-1579132799@www.joanassessors.com
SUMMARY:Impuestos trimestrales
DESCRIPTION:Fecha límite para poder domiciliar los impuestos trimestrales
URL:https://www.joanassessors.com/event/impuestos-trimestrales-4/
END:VEVENT
BEGIN:VEVENT
DTSTART;TZID=Europe/Madrid:20200101T000000
DTEND;TZID=Europe/Madrid:20201130T000000
DTSTAMP:20260424T210540
CREATED:20191230T101048Z
LAST-MODIFIED:20201202T133957Z
UID:639-1577836800-1606694400@www.joanassessors.com
SUMMARY:CALENDARIO VALENCIA 2020
DESCRIPTION:ENLACE AL CALENDARIO LABORAL DE 2020 DE VALENCIA
URL:https://www.joanassessors.com/event/calendario-valencia-2020/
ATTACH;FMTTYPE=image/jpeg:https://www.joanassessors.com/wp-content/uploads/2019/02/Logo-Joan-Assessors-HD-reduc-peso.jpg
END:VEVENT
BEGIN:VEVENT
DTSTART;VALUE=DATE:20191231
DTEND;VALUE=DATE:20200101
DTSTAMP:20260424T210540
CREATED:20191203T171902Z
LAST-MODIFIED:20191210T143259Z
UID:617-1577750400-1577836799@www.joanassessors.com
SUMMARY:HORARIO DICIEMBRE
DESCRIPTION:Durante el mes de diciembre\, este despacho permanecerá cerrado los días 24 y 31.
URL:https://www.joanassessors.com/event/horario-diciembre/
ATTACH;FMTTYPE=image/jpeg:https://www.joanassessors.com/wp-content/uploads/2019/12/IMG_20191205_165215-e1575988352738.jpg
END:VEVENT
BEGIN:VEVENT
DTSTART;VALUE=DATE:20191224
DTEND;VALUE=DATE:20191225
DTSTAMP:20260424T210540
CREATED:20191210T143338Z
LAST-MODIFIED:20191211T104457Z
UID:623-1577145600-1577231999@www.joanassessors.com
SUMMARY:HORARIO DICIEMBRE
DESCRIPTION:Durante el mes de diciembre\, este despacho permanecerá cerrado los días 24 y 31.
URL:https://www.joanassessors.com/event/horario-diciembre-2/
ATTACH;FMTTYPE=image/jpeg:https://www.joanassessors.com/wp-content/uploads/2019/12/IMG_20191205_165215-e1575988352738.jpg
END:VEVENT
BEGIN:VEVENT
DTSTART;VALUE=DATE:20191215
DTEND;VALUE=DATE:20191216
DTSTAMP:20260424T210540
CREATED:20190402T103435Z
LAST-MODIFIED:20190402T110348Z
UID:462-1576368000-1576454399@www.joanassessors.com
SUMMARY:Impuestos de sociedades
DESCRIPTION:Fecha límite para poder domiciliar el 3º pago a cuenta de los impuestos de sociedades
URL:https://www.joanassessors.com/event/462/
END:VEVENT
BEGIN:VEVENT
DTSTART;VALUE=DATE:20191015
DTEND;VALUE=DATE:20191016
DTSTAMP:20260424T210540
CREATED:20190402T103313Z
LAST-MODIFIED:20190402T110446Z
UID:460-1571097600-1571183999@www.joanassessors.com
SUMMARY:Impuestos trimestrales y sociedades
DESCRIPTION:Fecha límite para poder domiciliar los impuestos trimestrales \nFecha límite para poder domiciliar el 2º pago a cuenta de los impuestos de sociedades
URL:https://www.joanassessors.com/event/impuestos-trimestrales-3/
END:VEVENT
BEGIN:VEVENT
DTSTART;TZID=Europe/Madrid:20190902T000000
DTEND;TZID=Europe/Madrid:20190902T000000
DTSTAMP:20260424T210540
CREATED:20190829T103653Z
LAST-MODIFIED:20190829T103653Z
UID:567-1567382400-1567382400@www.joanassessors.com
SUMMARY:HORARIO ATENCIÓN AL PÚBLICO
DESCRIPTION:El próximo lunes\, reanudamos nuestro horario habitual: \n  \nDe lunes a jueves de 9:30 a 13:30 y de 16:30 a 19:00\, viernes de 9:30 a 13:30
URL:https://www.joanassessors.com/event/horario-atencion-al-publico/
END:VEVENT
BEGIN:VEVENT
DTSTART;VALUE=DATE:20190801
DTEND;VALUE=DATE:20190901
DTSTAMP:20260424T210540
CREATED:20190718T181733Z
LAST-MODIFIED:20190718T181733Z
UID:549-1564617600-1567295999@www.joanassessors.com
SUMMARY:HORARIO  DE AGOSTO
DESCRIPTION:El horario del mes de agosto: 10:00 a 13:00 las\n mañanas de los días 6\, 7\, 27 y 28.\n  \n  \n Agradecido de antemano su atención\, les deseamos un feliz verano.
URL:https://www.joanassessors.com/event/horario-de-agosto/
LOCATION:Valencia\, CALLE ROCA\, Nº 4\, VALENCIA\, VALENCIA\, 46007\, España
END:VEVENT
BEGIN:VEVENT
DTSTART;VALUE=DATE:20190730
DTEND;VALUE=DATE:20190731
DTSTAMP:20260424T210540
CREATED:20190402T110713Z
LAST-MODIFIED:20190402T110713Z
UID:470-1564444800-1564531199@www.joanassessors.com
SUMMARY:Cuentas anuales
DESCRIPTION:Presentación cuentas anuales ante el Registro Mecantil.
URL:https://www.joanassessors.com/event/cuentas-anuales/
END:VEVENT
BEGIN:VEVENT
DTSTART;VALUE=DATE:20190720
DTEND;VALUE=DATE:20190721
DTSTAMP:20260424T210540
CREATED:20190402T103244Z
LAST-MODIFIED:20190402T103244Z
UID:458-1563580800-1563667199@www.joanassessors.com
SUMMARY:Impuestos de sociedades
DESCRIPTION:Fecha límite para poder domiciliar los impuestos de sociedades correspondientes al ejercicio 2018.
URL:https://www.joanassessors.com/event/impuestos-de-sociedades/
END:VEVENT
BEGIN:VEVENT
DTSTART;VALUE=DATE:20190715
DTEND;VALUE=DATE:20190716
DTSTAMP:20260424T210540
CREATED:20190402T103135Z
LAST-MODIFIED:20190402T103135Z
UID:456-1563148800-1563235199@www.joanassessors.com
SUMMARY:Impuestos trimestrales
DESCRIPTION:Fecha límite para poder domiciliar los impuestos trimestrales.
URL:https://www.joanassessors.com/event/impuestos-trimestrales-2/
END:VEVENT
END:VCALENDAR